BEGIN:VCALENDAR
VERSION:2.0
PRODID:-//Shafston Hotel - ECPv6.15.17.1//NONSGML v1.0//EN
CALSCALE:GREGORIAN
METHOD:PUBLISH
X-ORIGINAL-URL:https://shafstonhotel.com.au
X-WR-CALDESC:Events for Shafston Hotel
REFRESH-INTERVAL;VALUE=DURATION:PT1H
X-Robots-Tag:noindex
X-PUBLISHED-TTL:PT1H
BEGIN:VTIMEZONE
TZID:Australia/Brisbane
BEGIN:STANDARD
TZOFFSETFROM:+1000
TZOFFSETTO:+1000
TZNAME:AEST
DTSTART:20250101T000000
END:STANDARD
END:VTIMEZONE
BEGIN:VEVENT
DTSTART;TZID=Australia/Brisbane:20260527T110000
DTEND;TZID=Australia/Brisbane:20260527T203000
DTSTAMP:20260421T085656
CREATED:20260409T032345Z
LAST-MODIFIED:20260409T032435Z
UID:10001244-1779879600-1779913800@shafstonhotel.com.au
SUMMARY:Burger Wednesdays
DESCRIPTION:Hump day is a whole lot better at the Shafston for Burger Wednesdays! Sink your teeth into our $25 burger and drink deal\, it’s the perfect excuse to ditch the kitchen and treat yourself. Life’s too short\, let us do the cooking and you just enjoy it! \n  \nDrinks include regular house wine\, schooner of select tap beers and soft drink.
URL:https://shafstonhotel.com.au/event/burger-wednesdays-2-2-2/2026-05-27/
LOCATION:Shafston Hotel
CATEGORIES:Weekly Events
ATTACH;FMTTYPE=image/jpeg:https://shafstonhotel.com.au/wp-content/uploads/2025/10/Burger-Wednesday-Tile.jpg
END:VEVENT
END:VCALENDAR