BEGIN:VCALENDAR
VERSION:2.0
PRODID:-//Shafston Hotel - ECPv6.15.17.1//NONSGML v1.0//EN
CALSCALE:GREGORIAN
METHOD:PUBLISH
X-ORIGINAL-URL:https://shafstonhotel.com.au
X-WR-CALDESC:Events for Shafston Hotel
REFRESH-INTERVAL;VALUE=DURATION:PT1H
X-Robots-Tag:noindex
X-PUBLISHED-TTL:PT1H
BEGIN:VTIMEZONE
TZID:Australia/Brisbane
BEGIN:STANDARD
TZOFFSETFROM:+1000
TZOFFSETTO:+1000
TZNAME:AEST
DTSTART:20250101T000000
END:STANDARD
END:VTIMEZONE
BEGIN:VEVENT
DTSTART;TZID=Australia/Brisbane:20260618T110000
DTEND;TZID=Australia/Brisbane:20260618T203000
DTSTAMP:20260421T090630
CREATED:20260409T032556Z
LAST-MODIFIED:20260409T032642Z
UID:10001258-1781780400-1781814600@shafstonhotel.com.au
SUMMARY:Schnitty Thursday
DESCRIPTION:Did someone say cheap Schnitty? Every Thursday we are slinging Australia’s favourite pub meal for only $16\, all day long! More of a Parmi person? Upgrade for only $3. Round up the crew and book your table today.
URL:https://shafstonhotel.com.au/event/schnitty-thursday-2-2-2-2/2026-06-18/
LOCATION:Shafston Hotel
CATEGORIES:Weekly Events
ATTACH;FMTTYPE=image/jpeg:https://shafstonhotel.com.au/wp-content/uploads/2025/02/Schnitty-Thursday-Tile-1.jpg
END:VEVENT
END:VCALENDAR