BEGIN:VCALENDAR
VERSION:2.0
PRODID:-//Shafston Hotel - ECPv6.15.17.1//NONSGML v1.0//EN
CALSCALE:GREGORIAN
METHOD:PUBLISH
X-WR-CALNAME:Shafston Hotel
X-ORIGINAL-URL:https://shafstonhotel.com.au
X-WR-CALDESC:Events for Shafston Hotel
REFRESH-INTERVAL;VALUE=DURATION:PT1H
X-Robots-Tag:noindex
X-PUBLISHED-TTL:PT1H
BEGIN:VTIMEZONE
TZID:Australia/Brisbane
BEGIN:STANDARD
TZOFFSETFROM:+1000
TZOFFSETTO:+1000
TZNAME:AEST
DTSTART:20250101T000000
END:STANDARD
END:VTIMEZONE
BEGIN:VEVENT
DTSTART;TZID=Australia/Brisbane:20260708T183000
DTEND;TZID=Australia/Brisbane:20260708T213000
DTSTAMP:20260421T155413
CREATED:20260108T000303Z
LAST-MODIFIED:20260108T000303Z
UID:10001184-1783535400-1783546200@shafstonhotel.com.au
SUMMARY:Gilmore Girls Trivia
DESCRIPTION:Grab a drink and nestle in to test your knowledge of Stars Hollow! From witty one-liners to unforgettable moments between Lorelai and Rory\, this trivia event will take you through the heart of your favourite mother-daughter duo’s adventures. Let’s see if you can keep up to prove you’re the ultimate Gilmore Girls fan! \n  \nRound up your team and book your table today.
URL:https://shafstonhotel.com.au/event/gilmore-girls-trivia/
LOCATION:Shafston Hotel
ATTACH;FMTTYPE=image/jpeg:https://shafstonhotel.com.au/wp-content/uploads/2026/01/Gilmore-Girls-Trivia-26-Tile.jpg
END:VEVENT
BEGIN:VEVENT
DTSTART;TZID=Australia/Brisbane:20260812T183000
DTEND;TZID=Australia/Brisbane:20260812T213000
DTSTAMP:20260421T155413
CREATED:20260108T001027Z
LAST-MODIFIED:20260108T001830Z
UID:10001185-1786559400-1786570200@shafstonhotel.com.au
SUMMARY:NRL Trivia
DESCRIPTION:It’s time for NRL Trivia\, where die-hard fans and casual footy brains go head-to-head. From legendary tries and unforgettable moments to cult heroes and pub-debate stats\, put your rugby league knowledge to the test. Rally the crew\, rep your colours\, and prove you know your footy.
URL:https://shafstonhotel.com.au/event/nrl-trivia/
LOCATION:Shafston Hotel
ATTACH;FMTTYPE=image/jpeg:https://shafstonhotel.com.au/wp-content/uploads/2026/01/NRL-Trivia-26-Tile.jpg
END:VEVENT
BEGIN:VEVENT
DTSTART;TZID=Australia/Brisbane:20260909T183000
DTEND;TZID=Australia/Brisbane:20260909T213000
DTSTAMP:20260421T155413
CREATED:20260108T002237Z
LAST-MODIFIED:20260108T002344Z
UID:10001186-1788978600-1788989400@shafstonhotel.com.au
SUMMARY:Shrek Trivia
DESCRIPTION:Join us for Shrek Trivia\, where fairy tales get flipped and ogres steal the spotlight. From Donkey’s one-liners to Far Far Away chaos\, test your knowledge of everyone’s favourite swamp legend. Grab your crew\, embrace your inner ogre\, and remember – this trivia night has layers.
URL:https://shafstonhotel.com.au/event/shrek-trivia/
LOCATION:Shafston Hotel
ATTACH;FMTTYPE=image/jpeg:https://shafstonhotel.com.au/wp-content/uploads/2026/01/Shrek-Trivia-Tile.jpg
END:VEVENT
BEGIN:VEVENT
DTSTART;TZID=Australia/Brisbane:20261014T173000
DTEND;TZID=Australia/Brisbane:20261014T203000
DTSTAMP:20260421T155413
CREATED:20260108T002654Z
LAST-MODIFIED:20260108T002654Z
UID:10001187-1791999000-1792009800@shafstonhotel.com.au
SUMMARY:Brooklyn Nine-Nine Trivia
DESCRIPTION:Put your detective skills to the test for Brooklyn Nine-Nine Trivia at the Shafston! From Jake and Amy’s antics to Holt’s deadpan delivery\, we’ll be covering all the hilarious moments from your favourite precinct. Whether you’re a Noice expert or Rosa Diaz in disguise\, it’s time to prove you’re the ultimate fan of the 99.
URL:https://shafstonhotel.com.au/event/brooklyn-nine-nine-trivia/
LOCATION:Shafston Hotel
ATTACH;FMTTYPE=image/jpeg:https://shafstonhotel.com.au/wp-content/uploads/2026/01/Brooklyn-99-Trivia-26-Tile.jpg
END:VEVENT
BEGIN:VEVENT
DTSTART;TZID=Australia/Brisbane:20261111T173000
DTEND;TZID=Australia/Brisbane:20261111T203000
DTSTAMP:20260421T155413
CREATED:20260108T002942Z
LAST-MODIFIED:20260108T003029Z
UID:10001188-1794418200-1794429000@shafstonhotel.com.au
SUMMARY:Disney Trivia
DESCRIPTION:Step into a world of magic as we journey through decades of Disney’s most enchanting films and characters. From timeless classics like Cinderella and The Lion King to modern hits like Frozen and Moana\, this trivia will test your knowledge of beloved heroes\, memorable villains\, iconic songs and heartwarming moments. Whether you’re a Disney expert or just love the magic\, it’s time to wish upon a star and see who will be crowned the ultimate Disney fan!
URL:https://shafstonhotel.com.au/event/disney-trivia/
LOCATION:Shafston Hotel
ATTACH;FMTTYPE=image/jpeg:https://shafstonhotel.com.au/wp-content/uploads/2026/01/Disney-Trivia-26-Tile.jpg
END:VEVENT
BEGIN:VEVENT
DTSTART;TZID=Australia/Brisbane:20261209T173000
DTEND;TZID=Australia/Brisbane:20261209T183000
DTSTAMP:20260421T155413
CREATED:20260108T003259Z
LAST-MODIFIED:20260108T003259Z
UID:10001189-1796837400-1796841000@shafstonhotel.com.au
SUMMARY:Harry Potter Christmas Trivia
DESCRIPTION:Test your knowledge of Harry Potter with a festive twist for Christmas! From enchanted Yule Balls to holiday feasts at Hogwarts\, this trivia will cover the most memorable Christmas moments in the beloved series. Grab your wands and scarves—it’s time to see if you have what it takes to top the leaderboard!
URL:https://shafstonhotel.com.au/event/harry-potter-christmas-trivia-2/
LOCATION:Shafston Hotel
ATTACH;FMTTYPE=image/jpeg:https://shafstonhotel.com.au/wp-content/uploads/2026/01/HP-Christmas-Trivia-26-Tile.jpg
END:VEVENT
END:VCALENDAR